BEGIN:VCALENDAR
PRODID:-//AT Content Types//AT Event//EN
VERSION:1.0
BEGIN:VEVENT
DTSTART:20260508T060000Z
DTEND:20260508T150000Z
DCREATED:20200505T204116Z
UID:ATEvent-0dd8721af4904f16b25898c2961d6449
SEQUENCE:0
LAST-MODIFIED:20260225T094739Z
SUMMARY:Fête de la Saint-Michel de printemps
LOCATION:Le Mont-Saint-Michel
PRIORITY:3
TRANSP:0
END:VEVENT
END:VCALENDAR
